Package: TENxBrainData Version: 1.29.0 Command: /home/biocbuild/bbs-3.22-bioc/R/bin/R CMD build --keep-empty-dirs --no-resave-data TENxBrainData StartedAt: 2025-07-15 11:44:14 -0400 (Tue, 15 Jul 2025) EndedAt: 2025-07-15 11:46:30 -0400 (Tue, 15 Jul 2025) EllapsedTime: 136.1 seconds RetCode: 0 Status: OK PackageFile: TENxBrainData_1.29.0.tar.gz PackageFileSize: 437.7 KiB