Package: TENxPBMCData Version: 1.27.0 Command: /home/biocbuild/bbs-3.22-bioc/R/bin/R CMD build --keep-empty-dirs --no-resave-data TENxPBMCData StartedAt: 2025-07-17 11:45:17 -0400 (Thu, 17 Jul 2025) EndedAt: 2025-07-17 11:46:18 -0400 (Thu, 17 Jul 2025) EllapsedTime: 60.9 seconds RetCode: 0 Status: OK PackageFile: TENxPBMCData_1.27.0.tar.gz PackageFileSize: 299.6 KiB