Package: TENxXeniumData Version: 1.5.0 Command: /home/biocbuild/bbs-3.22-bioc/R/bin/R CMD INSTALL TENxXeniumData StartedAt: 2025-07-10 11:03:21 -0400 (Thu, 10 Jul 2025) EndedAt: 2025-07-10 11:04:27 -0400 (Thu, 10 Jul 2025) EllapsedTime: 66.1 seconds RetCode: 0 Status: OK