Package: TabulaMurisData Version: 1.28.0 Command: /home/biocbuild/bbs-3.22-bioc/R/bin/R CMD build --keep-empty-dirs --no-resave-data TabulaMurisData StartedAt: 2025-11-20 11:47:58 -0500 (Thu, 20 Nov 2025) EndedAt: 2025-11-20 11:48:51 -0500 (Thu, 20 Nov 2025) EllapsedTime: 53.6 seconds RetCode: 0 Status: OK PackageFile: TabulaMurisData_1.28.0.tar.gz PackageFileSize: 220 KiB