Package: TabulaMurisData Version: 1.28.0 Command: /home/biocbuild/bbs-3.22-bioc/R/bin/R CMD INSTALL TabulaMurisData StartedAt: 2025-11-20 10:57:40 -0500 (Thu, 20 Nov 2025) EndedAt: 2025-11-20 10:57:55 -0500 (Thu, 20 Nov 2025) EllapsedTime: 15.0 seconds RetCode: 0 Status: OK