Package: TransOmicsData Version: 1.5.0 Command: /home/biocbuild/bbs-3.22-bioc/R/bin/R CMD INSTALL TransOmicsData StartedAt: 2025-07-15 10:56:28 -0400 (Tue, 15 Jul 2025) EndedAt: 2025-07-15 10:56:31 -0400 (Tue, 15 Jul 2025) EllapsedTime: 3.7 seconds RetCode: 0 Status: OK