Package: VariantToolsData Version: 1.33.0 Command: /home/biocbuild/bbs-3.22-bioc/R/bin/R CMD INSTALL VariantToolsData StartedAt: 2025-07-15 11:03:28 -0400 (Tue, 15 Jul 2025) EndedAt: 2025-07-15 11:04:03 -0400 (Tue, 15 Jul 2025) EllapsedTime: 35.1 seconds RetCode: 0 Status: OK