Package: WGSmapp Version: 1.22.0 Command: /home/biocbuild/bbs-3.22-bioc/R/bin/R CMD INSTALL WGSmapp StartedAt: 2025-11-20 10:58:19 -0500 (Thu, 20 Nov 2025) EndedAt: 2025-11-20 10:59:05 -0500 (Thu, 20 Nov 2025) EllapsedTime: 46.0 seconds RetCode: 0 Status: OK