Package: WeberDivechaLCdata Version: 1.12.0 Command: /home/biocbuild/bbs-3.22-bioc/R/bin/R CMD build --keep-empty-dirs --no-resave-data WeberDivechaLCdata StartedAt: 2025-11-20 11:52:44 -0500 (Thu, 20 Nov 2025) EndedAt: 2025-11-20 11:54:27 -0500 (Thu, 20 Nov 2025) EllapsedTime: 103.0 seconds RetCode: 0 Status: OK PackageFile: WeberDivechaLCdata_1.12.0.tar.gz PackageFileSize: 223.6 KiB