Package: WeberDivechaLCdata Version: 1.12.0 Command: /home/biocbuild/bbs-3.22-bioc/R/bin/R CMD INSTALL WeberDivechaLCdata StartedAt: 2025-11-20 10:58:46 -0500 (Thu, 20 Nov 2025) EndedAt: 2025-11-20 10:59:22 -0500 (Thu, 20 Nov 2025) EllapsedTime: 36.5 seconds RetCode: 0 Status: OK