Package: bcellViper Version: 1.46.0 Command: /home/biocbuild/bbs-3.22-bioc/R/bin/R CMD build --keep-empty-dirs --no-resave-data bcellViper StartedAt: 2025-11-18 11:08:45 -0500 (Tue, 18 Nov 2025) EndedAt: 2025-11-18 11:08:52 -0500 (Tue, 18 Nov 2025) EllapsedTime: 7.5 seconds RetCode: 0 Status: OK PackageFile: bcellViper_1.46.0.tar.gz PackageFileSize: 11.34 MiB