Package: beta7 Version: 1.47.0 Command: /home/biocbuild/bbs-3.22-bioc/R/bin/R CMD build --keep-empty-dirs --no-resave-data beta7 StartedAt: 2025-07-17 11:07:35 -0400 (Thu, 17 Jul 2025) EndedAt: 2025-07-17 11:07:44 -0400 (Thu, 17 Jul 2025) EllapsedTime: 8.1 seconds RetCode: 0 Status: OK PackageFile: beta7_1.47.0.tar.gz PackageFileSize: 15.18 MiB