Package: beta7 Version: 1.47.0 Command: /home/biocbuild/bbs-3.22-bioc/R/bin/R CMD INSTALL beta7 StartedAt: 2025-07-17 10:56:20 -0400 (Thu, 17 Jul 2025) EndedAt: 2025-07-17 10:56:26 -0400 (Thu, 17 Jul 2025) EllapsedTime: 6.6 seconds RetCode: 0 Status: OK