Package: biscuiteerData Version: 1.23.1 Command: /home/biocbuild/bbs-3.22-bioc/R/bin/R CMD build --keep-empty-dirs --no-resave-data biscuiteerData StartedAt: 2025-07-15 11:07:43 -0400 (Tue, 15 Jul 2025) EndedAt: 2025-07-15 11:08:11 -0400 (Tue, 15 Jul 2025) EllapsedTime: 27.5 seconds RetCode: 0 Status: OK PackageFile: biscuiteerData_1.23.1.tar.gz PackageFileSize: 188.5 KiB