Package: biscuiteerData Version: 1.23.1 Command: /home/biocbuild/bbs-3.22-bioc/R/bin/R CMD INSTALL biscuiteerData StartedAt: 2025-07-15 10:57:53 -0400 (Tue, 15 Jul 2025) EndedAt: 2025-07-15 10:58:11 -0400 (Tue, 15 Jul 2025) EllapsedTime: 18.2 seconds RetCode: 0 Status: OK