Package: bladderbatch Version: 1.47.0 Command: /home/biocbuild/bbs-3.22-bioc/R/bin/R CMD build --keep-empty-dirs --no-resave-data bladderbatch StartedAt: 2025-07-10 11:08:36 -0400 (Thu, 10 Jul 2025) EndedAt: 2025-07-10 11:08:43 -0400 (Thu, 10 Jul 2025) EllapsedTime: 6.6 seconds RetCode: 0 Status: OK PackageFile: bladderbatch_1.47.0.tar.gz PackageFileSize: 9.197 MiB