Package: blimaTestingData Version: 1.29.0 Command: /home/biocbuild/bbs-3.22-bioc/R/bin/R CMD build --keep-empty-dirs --no-resave-data blimaTestingData StartedAt: 2025-07-15 11:07:45 -0400 (Tue, 15 Jul 2025) EndedAt: 2025-07-15 11:08:26 -0400 (Tue, 15 Jul 2025) EllapsedTime: 41.5 seconds RetCode: 0 Status: OK PackageFile: blimaTestingData_1.29.0.tar.gz PackageFileSize: 98.27 MiB