Package: bsseqData Version: 0.47.0 Command: /home/biocbuild/bbs-3.22-bioc/R/bin/R CMD build --keep-empty-dirs --no-resave-data bsseqData StartedAt: 2025-07-15 11:08:20 -0400 (Tue, 15 Jul 2025) EndedAt: 2025-07-15 11:08:29 -0400 (Tue, 15 Jul 2025) EllapsedTime: 8.8 seconds RetCode: 0 Status: OK PackageFile: bsseqData_0.47.0.tar.gz PackageFileSize: 127.7 MiB