Package: bugphyzz Version: 1.3.0 Command: /home/biocbuild/bbs-3.22-bioc/R/bin/R CMD build --keep-empty-dirs --no-resave-data bugphyzz StartedAt: 2025-07-15 11:08:20 -0400 (Tue, 15 Jul 2025) EndedAt: 2025-07-15 11:09:25 -0400 (Tue, 15 Jul 2025) EllapsedTime: 65.0 seconds RetCode: 0 Status: OK PackageFile: bugphyzz_1.3.0.tar.gz PackageFileSize: 887.5 KiB