Package: ccdata Version: 1.35.0 Command: /home/biocbuild/bbs-3.22-bioc/R/bin/R CMD build --keep-empty-dirs --no-resave-data ccdata StartedAt: 2025-07-17 11:08:24 -0400 (Thu, 17 Jul 2025) EndedAt: 2025-07-17 11:09:18 -0400 (Thu, 17 Jul 2025) EllapsedTime: 54.0 seconds RetCode: 0 Status: OK PackageFile: ccdata_1.35.0.tar.gz PackageFileSize: 893.9 MiB