Package: cfToolsData Version: 1.7.0 Command: /home/biocbuild/bbs-3.22-bioc/R/bin/R CMD build --keep-empty-dirs --no-resave-data cfToolsData StartedAt: 2025-07-15 11:09:02 -0400 (Tue, 15 Jul 2025) EndedAt: 2025-07-15 11:09:32 -0400 (Tue, 15 Jul 2025) EllapsedTime: 30.0 seconds RetCode: 0 Status: OK PackageFile: cfToolsData_1.7.0.tar.gz PackageFileSize: 413 KiB