Package: chipseqDBData Version: 1.25.0 Command: /home/biocbuild/bbs-3.22-bioc/R/bin/R CMD INSTALL chipseqDBData StartedAt: 2025-07-10 11:00:45 -0400 (Thu, 10 Jul 2025) EndedAt: 2025-07-10 11:01:02 -0400 (Thu, 10 Jul 2025) EllapsedTime: 16.7 seconds RetCode: 0 Status: OK