Package: clustifyrdatahub Version: 1.19.0 Command: /home/biocbuild/bbs-3.22-bioc/R/bin/R CMD check --install=check:clustifyrdatahub.install-out.txt --library=/home/biocbuild/bbs-3.22-bioc/R/site-library --timings clustifyrdatahub_1.19.0.tar.gz StartedAt: 2025-07-15 12:06:20 -0400 (Tue, 15 Jul 2025) EndedAt: 2025-07-15 12:08:18 -0400 (Tue, 15 Jul 2025) EllapsedTime: 118.2 seconds RetCode: 0 Status: OK CheckDir: clustifyrdatahub.Rcheck Warnings: 0