Package: crisprScoreData Version: 1.13.0 Command: /home/biocbuild/bbs-3.22-bioc/R/bin/R CMD INSTALL crisprScoreData StartedAt: 2025-07-15 10:57:34 -0400 (Tue, 15 Jul 2025) EndedAt: 2025-07-15 10:57:47 -0400 (Tue, 15 Jul 2025) EllapsedTime: 12.7 seconds RetCode: 0 Status: OK