Package: curatedAdipoChIP Version: 1.25.0 Command: /home/biocbuild/bbs-3.22-bioc/R/bin/R CMD INSTALL curatedAdipoChIP StartedAt: 2025-07-15 11:00:17 -0400 (Tue, 15 Jul 2025) EndedAt: 2025-07-15 11:00:43 -0400 (Tue, 15 Jul 2025) EllapsedTime: 25.3 seconds RetCode: 0 Status: OK