Package: curatedAdipoRNA Version: 1.26.0 Command: /home/biocbuild/bbs-3.22-bioc/R/bin/R CMD build --keep-empty-dirs --no-resave-data curatedAdipoRNA StartedAt: 2025-11-18 11:16:03 -0500 (Tue, 18 Nov 2025) EndedAt: 2025-11-18 11:17:28 -0500 (Tue, 18 Nov 2025) EllapsedTime: 85.4 seconds RetCode: 0 Status: OK PackageFile: curatedAdipoRNA_1.26.0.tar.gz PackageFileSize: 5.586 MiB