Package: curatedAdipoRNA Version: 1.26.0 Command: /home/biocbuild/bbs-3.22-bioc/R/bin/R CMD INSTALL curatedAdipoRNA StartedAt: 2025-11-18 11:02:42 -0500 (Tue, 18 Nov 2025) EndedAt: 2025-11-18 11:03:04 -0500 (Tue, 18 Nov 2025) EllapsedTime: 22.5 seconds RetCode: 0 Status: OK