Package: curatedCRCData Version: 2.41.1 Command: /home/biocbuild/bbs-3.22-bioc/R/bin/R CMD build --keep-empty-dirs --no-resave-data curatedCRCData StartedAt: 2025-07-15 11:11:50 -0400 (Tue, 15 Jul 2025) EndedAt: 2025-07-15 11:13:19 -0400 (Tue, 15 Jul 2025) EllapsedTime: 88.6 seconds RetCode: 0 Status: OK PackageFile: curatedCRCData_2.41.1.tar.gz PackageFileSize: 398.8 MiB