Package: curatedCRCData Version: 2.41.1 Command: /home/biocbuild/bbs-3.22-bioc/R/bin/R CMD INSTALL curatedCRCData StartedAt: 2025-07-15 10:56:17 -0400 (Tue, 15 Jul 2025) EndedAt: 2025-07-15 10:56:19 -0400 (Tue, 15 Jul 2025) EllapsedTime: 2.0 seconds RetCode: 0 Status: OK