Package: curatedOvarianData Version: 1.47.2 Command: /home/biocbuild/bbs-3.22-bioc/R/bin/R CMD build --keep-empty-dirs --no-resave-data curatedOvarianData StartedAt: 2025-07-15 11:12:12 -0400 (Tue, 15 Jul 2025) EndedAt: 2025-07-15 11:14:38 -0400 (Tue, 15 Jul 2025) EllapsedTime: 146.4 seconds RetCode: 0 Status: OK PackageFile: curatedOvarianData_1.47.2.tar.gz PackageFileSize: 381.3 MiB