Package: curatedOvarianData Version: 1.47.2 Command: /home/biocbuild/bbs-3.22-bioc/R/bin/R CMD INSTALL curatedOvarianData StartedAt: 2025-07-15 10:56:19 -0400 (Tue, 15 Jul 2025) EndedAt: 2025-07-15 10:56:24 -0400 (Tue, 15 Jul 2025) EllapsedTime: 5.2 seconds RetCode: 0 Status: OK