Package: curatedTBData Version: 2.6.0 Command: /home/biocbuild/bbs-3.22-bioc/R/bin/R CMD build --keep-empty-dirs --no-resave-data curatedTBData StartedAt: 2025-10-30 11:18:32 -0400 (Thu, 30 Oct 2025) EndedAt: 2025-10-30 11:21:44 -0400 (Thu, 30 Oct 2025) EllapsedTime: 192.7 seconds RetCode: 0 Status: OK PackageFile: curatedTBData_2.6.0.tar.gz PackageFileSize: 361.4 KiB