Package: curatedTBData Version: 2.6.0 Command: /home/biocbuild/bbs-3.22-bioc/R/bin/R CMD INSTALL curatedTBData StartedAt: 2025-10-30 11:01:16 -0400 (Thu, 30 Oct 2025) EndedAt: 2025-10-30 11:02:02 -0400 (Thu, 30 Oct 2025) EllapsedTime: 45.6 seconds RetCode: 0 Status: OK