Package: curatedTCGAData Version: 1.32.0 Command: /home/biocbuild/bbs-3.22-bioc/R/bin/R CMD build --keep-empty-dirs --no-resave-data curatedTCGAData StartedAt: 2025-10-30 11:18:55 -0400 (Thu, 30 Oct 2025) EndedAt: 2025-10-30 11:20:29 -0400 (Thu, 30 Oct 2025) EllapsedTime: 93.2 seconds RetCode: 0 Status: OK PackageFile: curatedTCGAData_1.32.0.tar.gz PackageFileSize: 417.1 KiB