Package: depmap Version: 1.23.0 Command: /home/biocbuild/bbs-3.22-bioc/R/bin/R CMD INSTALL depmap StartedAt: 2025-07-17 10:57:04 -0400 (Thu, 17 Jul 2025) EndedAt: 2025-07-17 10:57:19 -0400 (Thu, 17 Jul 2025) EllapsedTime: 14.5 seconds RetCode: 0 Status: OK