Package: dorothea Version: 1.22.0 Command: /home/biocbuild/bbs-3.22-bioc/R/bin/R CMD build --keep-empty-dirs --no-resave-data dorothea StartedAt: 2025-11-20 11:17:40 -0500 (Thu, 20 Nov 2025) EndedAt: 2025-11-20 11:21:04 -0500 (Thu, 20 Nov 2025) EllapsedTime: 203.6 seconds RetCode: 0 Status: OK PackageFile: dorothea_1.22.0.tar.gz PackageFileSize: 34.04 MiB