Package: dorothea Version: 1.22.0 Command: /home/biocbuild/bbs-3.22-bioc/R/bin/R CMD INSTALL dorothea StartedAt: 2025-11-20 10:56:44 -0500 (Thu, 20 Nov 2025) EndedAt: 2025-11-20 10:57:28 -0500 (Thu, 20 Nov 2025) EllapsedTime: 43.8 seconds RetCode: 0 Status: OK