Package: easierData Version: 1.15.0 Command: /home/biocbuild/bbs-3.22-bioc/R/bin/R CMD INSTALL easierData StartedAt: 2025-07-10 11:04:21 -0400 (Thu, 10 Jul 2025) EndedAt: 2025-07-10 11:04:51 -0400 (Thu, 10 Jul 2025) EllapsedTime: 29.9 seconds RetCode: 0 Status: OK