Package: ecoliLeucine Version: 1.50.0 Command: /home/biocbuild/bbs-3.22-bioc/R/bin/R CMD INSTALL ecoliLeucine StartedAt: 2025-11-25 10:57:33 -0500 (Tue, 25 Nov 2025) EndedAt: 2025-11-25 10:57:41 -0500 (Tue, 25 Nov 2025) EllapsedTime: 8.0 seconds RetCode: 0 Status: OK