Package: eoPredData Version: 1.3.0 Command: /home/biocbuild/bbs-3.22-bioc/R/bin/R CMD INSTALL eoPredData StartedAt: 2025-07-15 10:56:49 -0400 (Tue, 15 Jul 2025) EndedAt: 2025-07-15 10:57:02 -0400 (Tue, 15 Jul 2025) EllapsedTime: 13.3 seconds RetCode: 0 Status: OK