Package: fabiaData Version: 1.48.0 Command: /home/biocbuild/bbs-3.22-bioc/R/bin/R CMD INSTALL fabiaData StartedAt: 2025-11-20 10:56:12 -0500 (Thu, 20 Nov 2025) EndedAt: 2025-11-20 10:56:16 -0500 (Thu, 20 Nov 2025) EllapsedTime: 4.1 seconds RetCode: 0 Status: OK