Package: ffpeExampleData Version: 1.47.0 Command: /home/biocbuild/bbs-3.22-bioc/R/bin/R CMD INSTALL ffpeExampleData StartedAt: 2025-07-15 11:02:48 -0400 (Tue, 15 Jul 2025) EndedAt: 2025-07-15 11:03:16 -0400 (Tue, 15 Jul 2025) EllapsedTime: 28.6 seconds RetCode: 0 Status: OK