Package: fission Version: 1.30.0 Command: /home/biocbuild/bbs-3.22-bioc/R/bin/R CMD INSTALL fission StartedAt: 2025-11-25 10:58:45 -0500 (Tue, 25 Nov 2025) EndedAt: 2025-11-25 10:59:00 -0500 (Tue, 25 Nov 2025) EllapsedTime: 15.1 seconds RetCode: 0 Status: OK