Package: flowPloidyData Version: 1.35.0 Command: /home/biocbuild/bbs-3.22-bioc/R/bin/R CMD build --keep-empty-dirs --no-resave-data flowPloidyData StartedAt: 2025-07-15 11:17:30 -0400 (Tue, 15 Jul 2025) EndedAt: 2025-07-15 11:17:36 -0400 (Tue, 15 Jul 2025) EllapsedTime: 5.7 seconds RetCode: 0 Status: OK PackageFile: flowPloidyData_1.35.0.tar.gz PackageFileSize: 7.099 MiB