Package: flowWorkspaceData Version: 3.21.0 Command: /home/biocbuild/bbs-3.22-bioc/R/bin/R CMD INSTALL flowWorkspaceData StartedAt: 2025-07-15 10:55:37 -0400 (Tue, 15 Jul 2025) EndedAt: 2025-07-15 10:55:39 -0400 (Tue, 15 Jul 2025) EllapsedTime: 2.2 seconds RetCode: 0 Status: OK