Package: fourDNData Version: 1.9.0 Command: /home/biocbuild/bbs-3.22-bioc/R/bin/R CMD INSTALL fourDNData StartedAt: 2025-07-17 10:58:45 -0400 (Thu, 17 Jul 2025) EndedAt: 2025-07-17 10:58:56 -0400 (Thu, 17 Jul 2025) EllapsedTime: 11.2 seconds RetCode: 0 Status: OK