Package: furrowSeg Version: 1.38.0 Command: /home/biocbuild/bbs-3.22-bioc/R/bin/R CMD INSTALL furrowSeg StartedAt: 2025-11-20 10:58:07 -0500 (Thu, 20 Nov 2025) EndedAt: 2025-11-20 10:58:13 -0500 (Thu, 20 Nov 2025) EllapsedTime: 5.9 seconds RetCode: 0 Status: OK