Package: gDRtestData Version: 1.7.1 Command: /home/biocbuild/bbs-3.22-bioc/R/bin/R CMD INSTALL gDRtestData StartedAt: 2025-07-15 10:55:57 -0400 (Tue, 15 Jul 2025) EndedAt: 2025-07-15 10:56:00 -0400 (Tue, 15 Jul 2025) EllapsedTime: 2.8 seconds RetCode: 0 Status: OK