Package: gcspikelite Version: 1.47.0 Command: /home/biocbuild/bbs-3.22-bioc/R/bin/R CMD build --keep-empty-dirs --no-resave-data gcspikelite StartedAt: 2025-07-15 11:19:06 -0400 (Tue, 15 Jul 2025) EndedAt: 2025-07-15 11:19:58 -0400 (Tue, 15 Jul 2025) EllapsedTime: 52.8 seconds RetCode: 0 Status: OK PackageFile: gcspikelite_1.47.0.tar.gz PackageFileSize: 21.63 MiB