Package: grndata Version: 1.41.0 Command: /home/biocbuild/bbs-3.22-bioc/R/bin/R CMD build --keep-empty-dirs --no-resave-data grndata StartedAt: 2025-07-15 11:19:56 -0400 (Tue, 15 Jul 2025) EndedAt: 2025-07-15 11:20:09 -0400 (Tue, 15 Jul 2025) EllapsedTime: 12.6 seconds RetCode: 0 Status: OK PackageFile: grndata_1.41.0.tar.gz PackageFileSize: 30.15 MiB